BEGIN:VCALENDAR
VERSION:2.0
PRODID:-//Generations NC - ECPv6.14.2//NONSGML v1.0//EN
CALSCALE:GREGORIAN
METHOD:PUBLISH
X-WR-CALNAME:Generations NC
X-ORIGINAL-URL:https://generations.nc
X-WR-CALDESC:Évènements pour Generations NC
REFRESH-INTERVAL;VALUE=DURATION:PT1H
X-Robots-Tag:noindex
X-PUBLISHED-TTL:PT1H
BEGIN:VTIMEZONE
TZID:Pacific/Noumea
BEGIN:STANDARD
TZOFFSETFROM:+1100
TZOFFSETTO:+1100
TZNAME:+11
DTSTART:20250101T000000
END:STANDARD
END:VTIMEZONE
BEGIN:VEVENT
DTSTART;TZID=Pacific/Noumea:20250302T173000
DTEND;TZID=Pacific/Noumea:20250302T183000
DTSTAMP:20260422T232212
CREATED:20250302T025819Z
LAST-MODIFIED:20250302T025819Z
UID:4961-1740936600-1740940200@generations.nc
SUMMARY:LIVE SUR FACEBOOK
DESCRIPTION:
URL:https://generations.nc/evenement/live-sur-facebook/
ATTACH;FMTTYPE=image/jpeg:https://generations.nc/wp-content/uploads/2025/03/NM-LIVE.jpg
END:VEVENT
BEGIN:VEVENT
DTSTART;TZID=Pacific/Noumea:20250303T080000
DTEND;TZID=Pacific/Noumea:20250303T170000
DTSTAMP:20260422T232212
CREATED:20250302T230620Z
LAST-MODIFIED:20250302T230620Z
UID:4966-1740988800-1741021200@generations.nc
SUMMARY:BBQ MEETING le sam 8 mars à l'hippodrome de Boulouparis
DESCRIPTION:𝐍𝐨𝐭𝐫𝐞 𝐁𝐚𝐫𝐛𝐞𝐜𝐮𝐞 𝐌𝐞𝐞𝐭𝐢𝐧𝐠 𝐝𝐞 𝐑𝐞𝐧𝐭𝐫𝐞́𝐞 𝐆𝐞́𝐧𝐞́𝐫𝐚𝐭𝐢𝐨𝐧𝐬 \n\n\n RDV le vendredi 8 mars\n à l’Hippodrome de Boulouparis\n De 9h à 15h\n\n\nVenez partager un moment convivial avec vos élus 𝐆𝐞́𝐧𝐞́𝐫𝐚𝐭𝐢𝐨𝐧𝐬 autour d’un grand barbecue meeting. \n\n\n On s’occupe de la viande\, mais pensez à apporter votre boisson\, votre chaise et votre natte pour profiter pleinement de cette journée d’échanges et de bonne humeur !\n\n\n 𝑅𝑒𝑗𝑜𝑖𝑔𝑛𝑒𝑧-𝑛𝑜𝑢𝑠 𝑝𝑜𝑢𝑟 𝑑𝑖𝑠𝑐𝑢𝑡𝑒𝑟 𝑑𝑒𝑠 𝑝𝑟𝑜𝑗𝑒𝑡𝑠 𝑒𝑡 𝑑𝑒𝑠 𝑒𝑛𝑗𝑒𝑢𝑥 𝑎̀ 𝑣𝑒𝑛𝑖𝑟 𝑝𝑜𝑢𝑟 𝑛𝑜𝑡𝑟𝑒 𝑡𝑒𝑟𝑟𝑖𝑡𝑜𝑖𝑟𝑒.\n\n\n Résa Bus (départ de Nouméa\, Piscine de Koutio\, Arène du Sud) au 72 34 35\n\n\n 𝐎𝐧 𝐜𝐨𝐦𝐩𝐭𝐞 𝐬𝐮𝐫 𝐯𝐨𝐮𝐬 !\n\n\n#GénérationsNC #BarbecueMeeting #Boulouparis #Engagement #Échange #Convivialité
URL:https://generations.nc/evenement/bbq-meeting-le-sam-8-mars-a-lhippodrome-de-boulouparis/
ATTACH;FMTTYPE=image/png:https://generations.nc/wp-content/uploads/2025/03/BBQ-8-mars-Publication-Facebook1.png
END:VEVENT
BEGIN:VEVENT
DTSTART;TZID=Pacific/Noumea:20250304T180000
DTEND;TZID=Pacific/Noumea:20250304T190000
DTSTAMP:20260422T232212
CREATED:20250228T042231Z
LAST-MODIFIED:20250228T043046Z
UID:4954-1741111200-1741114800@generations.nc
SUMMARY:RÉUNION PUBLIQUE - WHARF DU VALLON DORE
DESCRIPTION:
URL:https://generations.nc/evenement/reunion-publique-salle-des-communautes-au-mont-dore-sud/
ATTACH;FMTTYPE=image/png:https://generations.nc/wp-content/uploads/2025/02/FB-POST-Reunion-publique-ce-mardi-4-mars.png
END:VEVENT
BEGIN:VEVENT
DTSTART;TZID=Pacific/Noumea:20250308T090000
DTEND;TZID=Pacific/Noumea:20250308T150000
DTSTAMP:20260422T232212
CREATED:20250302T025731Z
LAST-MODIFIED:20250302T025731Z
UID:4959-1741424400-1741446000@generations.nc
SUMMARY:BBQ DE RENTRÉE à l’hippodrome de Boulouparis à partir de 9h
DESCRIPTION:
URL:https://generations.nc/evenement/bbq-de-rentree-a-lhippodrome-de-boulouparis-a-partir-de-9h/
ATTACH;FMTTYPE=image/png:https://generations.nc/wp-content/uploads/2025/03/BBQ-8-mars-Publication-Facebook.png
END:VEVENT
BEGIN:VEVENT
DTSTART;TZID=Pacific/Noumea:20250313T173000
DTEND;TZID=Pacific/Noumea:20250313T193000
DTSTAMP:20260422T232212
CREATED:20250320T045122Z
LAST-MODIFIED:20250320T045122Z
UID:4983-1741887000-1741894200@generations.nc
SUMMARY:Conseil Municipal du Mont-Dore
DESCRIPTION:à la Mairie à Boulari
URL:https://generations.nc/evenement/conseil-municipal-du-mont-dore-5/
ATTACH;FMTTYPE=image/jpeg:https://generations.nc/wp-content/uploads/2024/11/Capture-gnc-md-et-nina-2.jpg
END:VEVENT
BEGIN:VEVENT
DTSTART;TZID=Pacific/Noumea:20250318T180000
DTEND;TZID=Pacific/Noumea:20250318T193000
DTSTAMP:20260422T232212
CREATED:20250317T234248Z
LAST-MODIFIED:20250317T234308Z
UID:4973-1742320800-1742326200@generations.nc
SUMMARY:Réunion Comité Générations Nouméa
DESCRIPTION:
URL:https://generations.nc/evenement/reunion-generations-noumea/
ATTACH;FMTTYPE=image/jpeg:https://generations.nc/wp-content/uploads/2025/03/2025-03-18_10-41-14.jpg
END:VEVENT
BEGIN:VEVENT
DTSTART;TZID=Pacific/Noumea:20250324T170000
DTEND;TZID=Pacific/Noumea:20250324T183000
DTSTAMP:20260422T232212
CREATED:20250320T044245Z
LAST-MODIFIED:20250320T044245Z
UID:4980-1742835600-1742841000@generations.nc
SUMMARY:Conseil Municipal de Farino
DESCRIPTION:à la Mairie de Farino
URL:https://generations.nc/evenement/conseil-municipal-de-farino/
ATTACH;FMTTYPE=image/png:https://generations.nc/wp-content/uploads/2023/06/CONSEIL-MUNICIPAL-LOGO.png
END:VEVENT
END:VCALENDAR