BEGIN:VCALENDAR
VERSION:2.0
PRODID:-//Generations NC - ECPv6.14.2//NONSGML v1.0//EN
CALSCALE:GREGORIAN
METHOD:PUBLISH
X-ORIGINAL-URL:https://generations.nc
X-WR-CALDESC:Évènements pour Generations NC
REFRESH-INTERVAL;VALUE=DURATION:PT1H
X-Robots-Tag:noindex
X-PUBLISHED-TTL:PT1H
BEGIN:VTIMEZONE
TZID:Pacific/Noumea
BEGIN:STANDARD
TZOFFSETFROM:+1100
TZOFFSETTO:+1100
TZNAME:+11
DTSTART:20240101T000000
END:STANDARD
END:VTIMEZONE
BEGIN:VEVENT
DTSTART;TZID=Pacific/Noumea:20241010T080000
DTEND;TZID=Pacific/Noumea:20241010T180000
DTSTAMP:20260423T074735
CREATED:20241007T222615Z
LAST-MODIFIED:20241007T224109Z
UID:4787-1728547200-1728583200@generations.nc
SUMMARY:Réunion Publique
DESCRIPTION:Générations.NC a le plaisir  de vous inviter ce jeudi 10 octobre à 18h à une réunion publique qui se tiendra à l’hôtel le Château Royal à Nouméa.\n\nCette réunion\, organisée conjointement avec le MPC sera l’occasion pour Nina Julié\, conseillère provinciale\, Nicolas Metzdorf\, député de la 1ère circonscription\, et Gil Brial\, vice-président de la Province Sud\, Isabelle Champmoreau Vice-Présidente du Gouvernement\, d’aborder avec vous l’actualité locale et nationale.\n\n\nNous attirons votre attention quant au fait que le parking de l’hôtel est réservé aux forces de l’ordre\, nous vous invitons donc à privilégier le parking situé en face de la piscine du Ouen-Toro (cf plan ci-après).\nVeuillez noter toutefois qu’il sera possible de déposer les personnes à mobilité réduite devant l’hôtel directement.
URL:https://generations.nc/evenement/reunion-publique/
ATTACH;FMTTYPE=image/jpeg:https://generations.nc/wp-content/uploads/2024/10/RP-10.10.2024-GNC-MPC.jpg
END:VEVENT
BEGIN:VEVENT
DTSTART;TZID=Pacific/Noumea:20241024T170000
DTEND;TZID=Pacific/Noumea:20241024T190000
DTSTAMP:20260423T074735
CREATED:20241024T050826Z
LAST-MODIFIED:20241024T051253Z
UID:4815-1729789200-1729796400@generations.nc
SUMMARY:La Foa - Conseil Municipal
DESCRIPTION:
URL:https://generations.nc/evenement/la-foa-conseil-municipal-7/
ATTACH;FMTTYPE=image/png:https://generations.nc/wp-content/uploads/2024/10/Mairie-de-La-Foa-CM.png
END:VEVENT
BEGIN:VEVENT
DTSTART;TZID=Pacific/Noumea:20241029T180000
DTEND;TZID=Pacific/Noumea:20241029T200000
DTSTAMP:20260423T074735
CREATED:20241024T050033Z
LAST-MODIFIED:20241024T051718Z
UID:4818-1730224800-1730232000@generations.nc
SUMMARY:Dumbéa - Conseil Municipal
DESCRIPTION:
URL:https://generations.nc/evenement/dumbea-conseil-municipal-8/
ATTACH;FMTTYPE=image/jpeg:https://generations.nc/wp-content/uploads/2024/10/Capture-gnc-dumbea-noms.jpg
END:VEVENT
END:VCALENDAR