BEGIN:VCALENDAR
VERSION:2.0
PRODID:-//Generations NC - ECPv6.14.2//NONSGML v1.0//EN
CALSCALE:GREGORIAN
METHOD:PUBLISH
X-ORIGINAL-URL:https://generations.nc
X-WR-CALDESC:Évènements pour Generations NC
REFRESH-INTERVAL;VALUE=DURATION:PT1H
X-Robots-Tag:noindex
X-PUBLISHED-TTL:PT1H
BEGIN:VTIMEZONE
TZID:Pacific/Noumea
BEGIN:STANDARD
TZOFFSETFROM:+1100
TZOFFSETTO:+1100
TZNAME:+11
DTSTART:20240101T000000
END:STANDARD
END:VTIMEZONE
BEGIN:VEVENT
DTSTART;TZID=Pacific/Noumea:20240920T180000
DTEND;TZID=Pacific/Noumea:20240920T210000
DTSTAMP:20260423T092914
CREATED:20240918T070447Z
LAST-MODIFIED:20240918T070447Z
UID:4741-1726855200-1726866000@generations.nc
SUMMARY:NOCTURNE - MARCHE DU MONT-DORE SUD - WHARF DU VALLON DORE
DESCRIPTION:
URL:https://generations.nc/evenement/nocturne-marche-du-mont-dore-sud-wharf-du-vallon-dore/
ATTACH;FMTTYPE=image/png:https://generations.nc/wp-content/uploads/2024/09/Nocturne-01-v.012.png
END:VEVENT
BEGIN:VEVENT
DTSTART;TZID=Pacific/Noumea:20240921T090000
DTEND;TZID=Pacific/Noumea:20240921T113000
DTSTAMP:20260423T092914
CREATED:20240918T070716Z
LAST-MODIFIED:20240919T032512Z
UID:4744-1726909200-1726918200@generations.nc
SUMMARY:1ère Réunion du Collectif Mont-Dore Sud - à la cantine de l'école du Vallon Dore
DESCRIPTION:En se constituant en collectif et avec la volonté des Mondoriens nous allons rédiger une plainte en commun que nous déposerons au procureur de la république afin que les donneurs d’ordre de la CCAT et les faiseurs d’émeutes soient rendus publiquement responsables de leurs actes\, que le Mont-Dore soit enfin libérer de cette situation qui n’a déjà que trop duré.\n\n\nNous ne sommes qu’au début de nos démarches\, nous irons jusqu’au bout !\n\nNous vous donnons rendez-vous ce samedi 21 septembre à 9h à la cantine de l’école du Vallon Dore.\n\n\n\nParce que ensemble nous seront plus fort !\n\n\n\nNotre mail :  collectifmds@gmail.com\nNotre téléphone : +687 738187\nNotre page Facebook : COLLECTIF MONT-DORE SUD\n\n\n\nEncore merci à tous.\n\n\n\nLaure Moreau & Nina Julié
URL:https://generations.nc/evenement/1ere-reunion-du-collectif-mont-dore-sud-a-lhotel-du-vallon-dore/
ATTACH;FMTTYPE=image/png:https://generations.nc/wp-content/uploads/2024/09/Reunion-01-collectif-des-MDSud5.png
END:VEVENT
BEGIN:VEVENT
DTSTART;TZID=Pacific/Noumea:20240921T090000
DTEND;TZID=Pacific/Noumea:20240921T120000
DTSTAMP:20260423T092914
CREATED:20240918T071001Z
LAST-MODIFIED:20240918T071001Z
UID:4747-1726909200-1726920000@generations.nc
SUMMARY:Action Solidaire "BIEN ÊTRE" - Au Wharf du Vallon Dore
DESCRIPTION:A initiative de Nina Julié\, soutenue par la Mairie et la Province Sud
URL:https://generations.nc/evenement/action-solidaire-bien-etre-au-wharf-du-vallon-dore/
ATTACH;FMTTYPE=image/png:https://generations.nc/wp-content/uploads/2024/09/01-action-solidaire.png
END:VEVENT
END:VCALENDAR