BEGIN:VCALENDAR
VERSION:2.0
PRODID:-//Generations NC - ECPv6.14.2//NONSGML v1.0//EN
CALSCALE:GREGORIAN
METHOD:PUBLISH
X-WR-CALNAME:Generations NC
X-ORIGINAL-URL:https://generations.nc
X-WR-CALDESC:Évènements pour Generations NC
REFRESH-INTERVAL;VALUE=DURATION:PT1H
X-Robots-Tag:noindex
X-PUBLISHED-TTL:PT1H
BEGIN:VTIMEZONE
TZID:Pacific/Noumea
BEGIN:STANDARD
TZOFFSETFROM:+1100
TZOFFSETTO:+1100
TZNAME:+11
DTSTART:20240101T000000
END:STANDARD
END:VTIMEZONE
BEGIN:VEVENT
DTSTART;TZID=Pacific/Noumea:20240819T160000
DTEND;TZID=Pacific/Noumea:20240819T180000
DTSTAMP:20260423T110622
CREATED:20240813T223152Z
LAST-MODIFIED:20240813T223217Z
UID:4683-1724083200-1724090400@generations.nc
SUMMARY:Boulouparis - Réunion Publique au Banian (route de Bouraké)
DESCRIPTION:
URL:https://generations.nc/evenement/boulouparis-reunion-publique-au-banian-route-de-bourake/
ATTACH;FMTTYPE=image/png:https://generations.nc/wp-content/uploads/2024/08/Boulouparis-19.08.24-3.png
END:VEVENT
BEGIN:VEVENT
DTSTART;TZID=Pacific/Noumea:20240824T090000
DTEND;TZID=Pacific/Noumea:20240824T110000
DTSTAMP:20260423T110622
CREATED:20240819T230237Z
LAST-MODIFIED:20240822T044615Z
UID:4686-1724490000-1724497200@generations.nc
SUMMARY:RÉUNION PUBLIQUE - MONT-DORE SUD
DESCRIPTION:Cantine de l’école primaire du Vallon Dore à côté de la Salle des communautés
URL:https://generations.nc/evenement/reunion-publique-mont-dore-sud/
ATTACH;FMTTYPE=image/png:https://generations.nc/wp-content/uploads/2024/08/MONT-DORE-TOURNEE-GNC-20241.png
END:VEVENT
BEGIN:VEVENT
DTSTART;TZID=Pacific/Noumea:20240826T170000
DTEND;TZID=Pacific/Noumea:20240826T183000
DTSTAMP:20260423T110622
CREATED:20240820T040940Z
LAST-MODIFIED:20240822T044718Z
UID:4696-1724691600-1724697000@generations.nc
SUMMARY:RÉUNION PUBLIQUE - LA FOA
DESCRIPTION:LA FOA au Centre socioculturel le lundi 26 août à partir de 17h \n 
URL:https://generations.nc/evenement/reunion-publique-la-foa/
ATTACH;FMTTYPE=image/png:https://generations.nc/wp-content/uploads/2024/08/LA-FOA-TOURNEE-GNC-20241.png
END:VEVENT
BEGIN:VEVENT
DTSTART;TZID=Pacific/Noumea:20240831T080000
DTEND;TZID=Pacific/Noumea:20240831T113000
DTSTAMP:20260423T110622
CREATED:20240819T230605Z
LAST-MODIFIED:20240820T041906Z
UID:4690-1725091200-1725103800@generations.nc
SUMMARY:RÉUNION PUBLIQUE -  NOUMÉA
DESCRIPTION:au Méridien le samedi 31 août à partir de 8h
URL:https://generations.nc/evenement/reunions-publiques-mont-dore-noumea/
ATTACH;FMTTYPE=image/png:https://generations.nc/wp-content/uploads/2024/08/NEA-TOURNEE-GNC-2024.png
END:VEVENT
END:VCALENDAR