BEGIN:VCALENDAR
VERSION:2.0
PRODID:-//Generations NC - ECPv6.14.2//NONSGML v1.0//EN
CALSCALE:GREGORIAN
METHOD:PUBLISH
X-ORIGINAL-URL:https://generations.nc
X-WR-CALDESC:Évènements pour Generations NC
REFRESH-INTERVAL;VALUE=DURATION:PT1H
X-Robots-Tag:noindex
X-PUBLISHED-TTL:PT1H
BEGIN:VTIMEZONE
TZID:Pacific/Noumea
BEGIN:STANDARD
TZOFFSETFROM:+1100
TZOFFSETTO:+1100
TZNAME:+11
DTSTART:20240101T000000
END:STANDARD
END:VTIMEZONE
BEGIN:VEVENT
DTSTART;TZID=Pacific/Noumea:20240623T183000
DTEND;TZID=Pacific/Noumea:20240623T193000
DTSTAMP:20260423T143104
CREATED:20240623T091437Z
LAST-MODIFIED:20240623T091437Z
UID:4452-1719167400-1719171000@generations.nc
SUMMARY:FB LIVE - NICOLAS METZDORF
DESCRIPTION:
URL:https://generations.nc/evenement/fb-live-nicolas-metzdorf/
ATTACH;FMTTYPE=image/jpeg:https://generations.nc/wp-content/uploads/2024/06/FB-LIVE.jpg
END:VEVENT
BEGIN:VEVENT
DTSTART;TZID=Pacific/Noumea:20240624T180000
DTEND;TZID=Pacific/Noumea:20240624T190000
DTSTAMP:20260423T143104
CREATED:20240623T090510Z
LAST-MODIFIED:20240623T090916Z
UID:4443-1719252000-1719255600@generations.nc
SUMMARY:FB LIVE : Débat JEUNES : Nicolas Metzdorf et Isabelle Champmoreau
DESCRIPTION:
URL:https://generations.nc/evenement/fb-live-debat-jeunes-nicolas-metzdorf-et-isabelle-champmoreau/
ATTACH;FMTTYPE=image/jpeg:https://generations.nc/wp-content/uploads/2024/06/DEBAT-JEUNES-NM-IC.jpg
END:VEVENT
BEGIN:VEVENT
DTSTART;TZID=Pacific/Noumea:20240625T193000
DTEND;TZID=Pacific/Noumea:20240625T200000
DTSTAMP:20260423T143104
CREATED:20240623T091317Z
LAST-MODIFIED:20240625T084909Z
UID:4448-1719343800-1719345600@generations.nc
SUMMARY:(annulé par la chaine) INVITE DU JT (nc1ère) - NICOLAS METZDORF
DESCRIPTION:
URL:https://generations.nc/evenement/invite-du-jt-nc1ere-nicolas-metzdorf/
ATTACH;FMTTYPE=image/jpeg:https://generations.nc/wp-content/uploads/2024/06/MARDI.jpg
END:VEVENT
BEGIN:VEVENT
DTSTART;VALUE=DATE:20240626
DTEND;VALUE=DATE:20240627
DTSTAMP:20260423T143104
CREATED:20240623T132940Z
LAST-MODIFIED:20240623T132940Z
UID:4474-1719360000-1719446399@generations.nc
SUMMARY:MEETING AU DOCK SOCIO-CULTUREL DE PAITA (horaire à confirmer)
DESCRIPTION:
URL:https://generations.nc/evenement/meeting-au-dock-socio-culturel-de-paita-horaire-a-confirmer/
ATTACH;FMTTYPE=image/jpeg:https://generations.nc/wp-content/uploads/2024/06/Affiche-nm-ap.jpg
END:VEVENT
BEGIN:VEVENT
DTSTART;TZID=Pacific/Noumea:20240626T090000
DTEND;TZID=Pacific/Noumea:20240626T120000
DTSTAMP:20260423T143104
CREATED:20240625T085112Z
LAST-MODIFIED:20240625T085112Z
UID:4495-1719392400-1719403200@generations.nc
SUMMARY:Besoin d'aide pour votre procuration ?
DESCRIPTION:
URL:https://generations.nc/evenement/besoin-daide-pour-votre-procuration/
ATTACH;FMTTYPE=image/jpeg:https://generations.nc/wp-content/uploads/2024/06/proc-a-noumea.jpg
END:VEVENT
BEGIN:VEVENT
DTSTART;TZID=Pacific/Noumea:20240626T170000
DTEND;TZID=Pacific/Noumea:20240626T180000
DTSTAMP:20260423T143104
CREATED:20240625T070706Z
LAST-MODIFIED:20240625T070755Z
UID:4487-1719421200-1719424800@generations.nc
SUMMARY:MEETING A NOUMÉA
DESCRIPTION:Restaurant On The Beach (Côte Blanche)
URL:https://generations.nc/evenement/meeting-a-noumea/
ATTACH;FMTTYPE=image/jpeg:https://generations.nc/wp-content/uploads/2024/06/meeting-a-noumea.jpg
END:VEVENT
BEGIN:VEVENT
DTSTART;TZID=Pacific/Noumea:20240627T090000
DTEND;TZID=Pacific/Noumea:20240627T120000
DTSTAMP:20260423T143104
CREATED:20240625T085205Z
LAST-MODIFIED:20240625T085205Z
UID:4497-1719478800-1719489600@generations.nc
SUMMARY:Besoin d'aide pour votre procuration ?
DESCRIPTION:
URL:https://generations.nc/evenement/besoin-daide-pour-votre-procuration-2/
ATTACH;FMTTYPE=image/jpeg:https://generations.nc/wp-content/uploads/2024/06/proc-a-noumea.jpg
END:VEVENT
BEGIN:VEVENT
DTSTART;TZID=Pacific/Noumea:20240630T070000
DTEND;TZID=Pacific/Noumea:20240630T170000
DTSTAMP:20260423T143104
CREATED:20240628T032321Z
LAST-MODIFIED:20240628T032321Z
UID:4524-1719730800-1719766800@generations.nc
SUMMARY:Élections Législatives 2024
DESCRIPTION:
URL:https://generations.nc/evenement/elections-legislatives-2024/
ATTACH;FMTTYPE=image/jpeg:https://generations.nc/wp-content/uploads/2024/06/Affiche-nm-ap.jpg
END:VEVENT
END:VCALENDAR