BEGIN:VCALENDAR
VERSION:2.0
PRODID:-//Generations NC - ECPv6.14.2//NONSGML v1.0//EN
CALSCALE:GREGORIAN
METHOD:PUBLISH
X-ORIGINAL-URL:https://generations.nc
X-WR-CALDESC:Évènements pour Generations NC
REFRESH-INTERVAL;VALUE=DURATION:PT1H
X-Robots-Tag:noindex
X-PUBLISHED-TTL:PT1H
BEGIN:VTIMEZONE
TZID:Pacific/Noumea
BEGIN:STANDARD
TZOFFSETFROM:+1100
TZOFFSETTO:+1100
TZNAME:+11
DTSTART:20230101T000000
END:STANDARD
END:VTIMEZONE
BEGIN:VEVENT
DTSTART;TZID=Pacific/Noumea:20230913T180000
DTEND;TZID=Pacific/Noumea:20230913T193000
DTSTAMP:20260424T061937
CREATED:20230907T003349Z
LAST-MODIFIED:20230907T020021Z
UID:4310-1694628000-1694633400@generations.nc
SUMMARY:Le comité thématique environnement & développement économique
DESCRIPTION:se réunit au QG de Générations NC : 40 rue Anatole France – Carré St Hubert à Nouméa
URL:https://generations.nc/evenement/le-comite-thematique-environnement-developpement-economique/
ATTACH;FMTTYPE=image/jpeg:https://generations.nc/wp-content/uploads/2023/09/photo_2023-09-07_07-12-13-1.jpg
END:VEVENT
BEGIN:VEVENT
DTSTART;TZID=Pacific/Noumea:20230913T180000
DTEND;TZID=Pacific/Noumea:20230913T193000
DTSTAMP:20260424T061937
CREATED:20230911T030958Z
LAST-MODIFIED:20230911T030958Z
UID:4318-1694628000-1694633400@generations.nc
SUMMARY:Conseil Municipal à la Mairie de Nouméa
DESCRIPTION:Avec l’élu municipal Générations NC\, Emmanuel Bérart
URL:https://generations.nc/evenement/conseil-municipal-a-la-mairie-de-noumea-2/
ATTACH;FMTTYPE=image/png:https://generations.nc/wp-content/uploads/2023/06/Manu-2.png
END:VEVENT
END:VCALENDAR