BEGIN:VCALENDAR
VERSION:2.0
PRODID:-//Generations NC - ECPv6.14.2//NONSGML v1.0//EN
CALSCALE:GREGORIAN
METHOD:PUBLISH
X-WR-CALNAME:Generations NC
X-ORIGINAL-URL:https://generations.nc
X-WR-CALDESC:Évènements pour Generations NC
REFRESH-INTERVAL;VALUE=DURATION:PT1H
X-Robots-Tag:noindex
X-PUBLISHED-TTL:PT1H
BEGIN:VTIMEZONE
TZID:Pacific/Noumea
BEGIN:STANDARD
TZOFFSETFROM:+1100
TZOFFSETTO:+1100
TZNAME:+11
DTSTART:20230101T000000
END:STANDARD
END:VTIMEZONE
BEGIN:VEVENT
DTSTART;TZID=Pacific/Noumea:20230101T080000
DTEND;TZID=Pacific/Noumea:20230101T170000
DTSTAMP:20260424T184207
CREATED:20230102T021556Z
LAST-MODIFIED:20230102T021556Z
UID:3999-1672560000-1672592400@generations.nc
SUMMARY:Meilleurs Vœux 2023
DESCRIPTION:
URL:https://generations.nc/evenement/meilleurs-voeux-2023/
ATTACH;FMTTYPE=image/png:https://generations.nc/wp-content/uploads/2023/01/Capture.01.png
END:VEVENT
END:VCALENDAR