BEGIN:VCALENDAR
VERSION:2.0
PRODID:-//Generations NC - ECPv6.14.2//NONSGML v1.0//EN
CALSCALE:GREGORIAN
METHOD:PUBLISH
X-WR-CALNAME:Generations NC
X-ORIGINAL-URL:https://generations.nc
X-WR-CALDESC:Évènements pour Generations NC
REFRESH-INTERVAL;VALUE=DURATION:PT1H
X-Robots-Tag:noindex
X-PUBLISHED-TTL:PT1H
BEGIN:VTIMEZONE
TZID:Pacific/Noumea
BEGIN:STANDARD
TZOFFSETFROM:+1100
TZOFFSETTO:+1100
TZNAME:+11
DTSTART:20220101T000000
END:STANDARD
END:VTIMEZONE
BEGIN:VEVENT
DTSTART;TZID=Pacific/Noumea:20220905T170000
DTEND;TZID=Pacific/Noumea:20220905T190000
DTSTAMP:20260425T010620
CREATED:20220907T061710Z
LAST-MODIFIED:20220907T061721Z
UID:3822-1662397200-1662404400@generations.nc
SUMMARY:Paita - Conseil municipal
DESCRIPTION:Lundi 05 septembre 2022 à 17h
URL:https://generations.nc/evenement/paita-conseil-municipal/
ATTACH;FMTTYPE=image/png:https://generations.nc/wp-content/uploads/2022/09/Paita.png
END:VEVENT
BEGIN:VEVENT
DTSTART;TZID=Pacific/Noumea:20220907T180000
DTEND;TZID=Pacific/Noumea:20220907T180000
DTSTAMP:20260425T010620
CREATED:20220907T044405Z
LAST-MODIFIED:20220907T044405Z
UID:3818-1662573600-1662573600@generations.nc
SUMMARY:Réunion Les Loyalistes
DESCRIPTION:
URL:https://generations.nc/evenement/reunion-les-loyalistes/
ATTACH;FMTTYPE=image/jpeg:https://generations.nc/wp-content/uploads/2022/09/REUNION-LOYALISTES-001.jpg
END:VEVENT
BEGIN:VEVENT
DTSTART;TZID=Pacific/Noumea:20220908T170000
DTEND;TZID=Pacific/Noumea:20220908T190000
DTSTAMP:20260425T010620
CREATED:20220907T062436Z
LAST-MODIFIED:20220907T062446Z
UID:3829-1662656400-1662663600@generations.nc
SUMMARY:Dumbéa - Conseil municipal
DESCRIPTION:Le 08.09 à 17h en mairie
URL:https://generations.nc/evenement/dumbea-conseil-municipal-4/
ATTACH;FMTTYPE=image/png:https://generations.nc/wp-content/uploads/2022/09/Dumbea.png
END:VEVENT
BEGIN:VEVENT
DTSTART;TZID=Pacific/Noumea:20220908T180000
DTEND;TZID=Pacific/Noumea:20220908T190000
DTSTAMP:20260425T010620
CREATED:20220908T043459Z
LAST-MODIFIED:20220908T043459Z
UID:3842-1662660000-1662663600@generations.nc
SUMMARY:Réunion du Comité de Générations Nouméa
DESCRIPTION:Actualité municipales\, Avenir institutionnel\, Questions…
URL:https://generations.nc/evenement/reunion-du-comite-de-generations-noumea/
ATTACH;FMTTYPE=image/jpeg:https://generations.nc/wp-content/uploads/2022/09/capture.jpg
END:VEVENT
BEGIN:VEVENT
DTSTART;TZID=Pacific/Noumea:20220911T080000
DTEND;TZID=Pacific/Noumea:20220911T170000
DTSTAMP:20260425T010620
CREATED:20220907T063244Z
LAST-MODIFIED:20220907T063316Z
UID:3832-1662883200-1662915600@generations.nc
SUMMARY:Farino : Fête du ver de bancoule avec Générations Farino
DESCRIPTION:Rdv à Farino le dimanche 11.09
URL:https://generations.nc/evenement/farino-fete-du-ver-de-bancoule/
ATTACH;FMTTYPE=image/png:https://generations.nc/wp-content/uploads/2022/09/Farino-fete-du-ver-de-bancoule.png
END:VEVENT
BEGIN:VEVENT
DTSTART;TZID=Pacific/Noumea:20220918T083000
DTEND;TZID=Pacific/Noumea:20220918T140000
DTSTAMP:20260425T010620
CREATED:20220907T063633Z
LAST-MODIFIED:20220907T063643Z
UID:3836-1663489800-1663509600@generations.nc
SUMMARY:Séminaire de travail Générations NC
DESCRIPTION:RDV à La Foa le dimanche 18 septembre
URL:https://generations.nc/evenement/seminaire-de-travail-generations-nc/
ATTACH;FMTTYPE=image/jpeg:https://generations.nc/wp-content/uploads/2022/09/Seminaire-de-travail-Generations.jpg
END:VEVENT
BEGIN:VEVENT
DTSTART;TZID=Pacific/Noumea:20220921T180000
DTEND;TZID=Pacific/Noumea:20220921T193000
DTSTAMP:20260425T010620
CREATED:20220920T233937Z
LAST-MODIFIED:20220921T051506Z
UID:3858-1663783200-1663788600@generations.nc
SUMMARY:Nouméa - Conseil Municipal
DESCRIPTION:
URL:https://generations.nc/evenement/noumea-conseil-municipal-5/
ATTACH;FMTTYPE=image/png:https://generations.nc/wp-content/uploads/2022/09/Toutes-les-infos-un-site-web-www.GENERATIONS.NC4_.png
END:VEVENT
BEGIN:VEVENT
DTSTART;TZID=Pacific/Noumea:20220922T173000
DTEND;TZID=Pacific/Noumea:20220922T193000
DTSTAMP:20260425T010620
CREATED:20220921T050615Z
LAST-MODIFIED:20220921T051531Z
UID:3860-1663867800-1663875000@generations.nc
SUMMARY:Mont-Dore - Conseil Municipal
DESCRIPTION:
URL:https://generations.nc/evenement/conseil-municipal-du-mont-dore-2/
ATTACH;FMTTYPE=image/png:https://generations.nc/wp-content/uploads/2022/09/Toutes-les-infos-un-site-web-www.GENERATIONS.NC3_.png
END:VEVENT
BEGIN:VEVENT
DTSTART;TZID=Pacific/Noumea:20220923T180000
DTEND;TZID=Pacific/Noumea:20220923T193000
DTSTAMP:20260425T010620
CREATED:20220920T233001Z
LAST-MODIFIED:20220920T233001Z
UID:3851-1663956000-1663961400@generations.nc
SUMMARY:Réunion d'information
DESCRIPTION:
URL:https://generations.nc/evenement/reunion-dinformation/
ATTACH;FMTTYPE=image/png:https://generations.nc/wp-content/uploads/2022/09/NM-DEPUTE-RP3.png
END:VEVENT
BEGIN:VEVENT
DTSTART;TZID=Pacific/Noumea:20220924T080000
DTEND;TZID=Pacific/Noumea:20220925T170000
DTSTAMP:20260425T010620
CREATED:20220907T064015Z
LAST-MODIFIED:20220920T234059Z
UID:3839-1664006400-1664125200@generations.nc
SUMMARY:Foire de Koumac 2022
DESCRIPTION:23 \, 24 et 25 septembre
URL:https://generations.nc/evenement/foire-de-koumac-2022/
ATTACH;FMTTYPE=image/png:https://generations.nc/wp-content/uploads/2022/09/Foire-de-Koumac.png
END:VEVENT
BEGIN:VEVENT
DTSTART;TZID=Pacific/Noumea:20220928T180000
DTEND;TZID=Pacific/Noumea:20220928T190000
DTSTAMP:20260425T010620
CREATED:20220927T221333Z
LAST-MODIFIED:20220927T221333Z
UID:3869-1664388000-1664391600@generations.nc
SUMMARY:Renouvellement du bureau au Centre Socio-Culturel
DESCRIPTION:
URL:https://generations.nc/evenement/renouvellement-du-bureau-au-centre-socio-culturel/
ATTACH;FMTTYPE=image/png:https://generations.nc/wp-content/uploads/2022/09/gnc-la-foa-2.png
END:VEVENT
END:VCALENDAR