BEGIN:VCALENDAR
VERSION:2.0
PRODID:-//Generations NC - ECPv6.14.2//NONSGML v1.0//EN
CALSCALE:GREGORIAN
METHOD:PUBLISH
X-WR-CALNAME:Generations NC
X-ORIGINAL-URL:https://generations.nc
X-WR-CALDESC:Évènements pour Generations NC
REFRESH-INTERVAL;VALUE=DURATION:PT1H
X-Robots-Tag:noindex
X-PUBLISHED-TTL:PT1H
BEGIN:VTIMEZONE
TZID:Pacific/Noumea
BEGIN:STANDARD
TZOFFSETFROM:+1100
TZOFFSETTO:+1100
TZNAME:+11
DTSTART:20220101T000000
END:STANDARD
END:VTIMEZONE
BEGIN:VEVENT
DTSTART;TZID=Pacific/Noumea:20220804T180000
DTEND;TZID=Pacific/Noumea:20220804T190000
DTSTAMP:20260425T023444
CREATED:20220804T055339Z
LAST-MODIFIED:20220804T055344Z
UID:3748-1659636000-1659639600@generations.nc
SUMMARY:Nouméa - Conseil municipal
DESCRIPTION:
URL:https://generations.nc/evenement/noumea-conseil-municipal-4/
ATTACH;FMTTYPE=image/png:https://generations.nc/wp-content/uploads/2022/02/Manu-2.png
END:VEVENT
BEGIN:VEVENT
DTSTART;TZID=Pacific/Noumea:20220804T180000
DTEND;TZID=Pacific/Noumea:20220804T190000
DTSTAMP:20260425T023444
CREATED:20220804T055514Z
LAST-MODIFIED:20220804T055518Z
UID:3750-1659636000-1659639600@generations.nc
SUMMARY:Mont-Dore - Conseil municipal
DESCRIPTION:
URL:https://generations.nc/evenement/mont-dore-conseil-municipal-3/
ATTACH;FMTTYPE=image/png:https://generations.nc/wp-content/uploads/2022/08/Mairie-du-Mont-Dore.png
END:VEVENT
BEGIN:VEVENT
DTSTART;TZID=Pacific/Noumea:20220811T180000
DTEND;TZID=Pacific/Noumea:20220811T193000
DTSTAMP:20260425T023444
CREATED:20220804T055640Z
LAST-MODIFIED:20220804T055644Z
UID:3753-1660240800-1660246200@generations.nc
SUMMARY:Réunion du comité Générations Nouméa
DESCRIPTION:
URL:https://generations.nc/evenement/reunion-du-comite-generations-noumea-3/
ATTACH;FMTTYPE=image/jpeg:https://generations.nc/wp-content/uploads/2022/08/Generations-Noumea.jpg
END:VEVENT
BEGIN:VEVENT
DTSTART;TZID=Pacific/Noumea:20220826T180000
DTEND;TZID=Pacific/Noumea:20220826T190300
DTSTAMP:20260425T023444
CREATED:20220824T040225Z
LAST-MODIFIED:20220824T041256Z
UID:3787-1661536800-1661540580@generations.nc
SUMMARY:LA FOA : Réunion publique d'information
DESCRIPTION:RDV au centre socio culturel vendredi 26.08 à 18h
URL:https://generations.nc/evenement/reunion-publique-dinformation/
ATTACH;FMTTYPE=image/jpeg:https://generations.nc/wp-content/uploads/2022/08/Capture5.jpg
END:VEVENT
BEGIN:VEVENT
DTSTART;TZID=Pacific/Noumea:20220831T180000
DTEND;TZID=Pacific/Noumea:20220831T193000
DTSTAMP:20260425T023444
CREATED:20220829T035409Z
LAST-MODIFIED:20220829T035429Z
UID:3797-1661968800-1661974200@generations.nc
SUMMARY:Réunion Publique à Koné avec Nicolas Metzdorfr
DESCRIPTION:RDV Au Pitiri à 18h
URL:https://generations.nc/evenement/reunion-publique-a-kone-avec-nicolas-metzdorfr/
ATTACH;FMTTYPE=image/jpeg:https://generations.nc/wp-content/uploads/2022/08/NM-DEPUTE-RP1.jpg
END:VEVENT
END:VCALENDAR