BEGIN:VCALENDAR
VERSION:2.0
PRODID:-//Generations NC - ECPv6.14.2//NONSGML v1.0//EN
CALSCALE:GREGORIAN
METHOD:PUBLISH
X-ORIGINAL-URL:https://generations.nc
X-WR-CALDESC:Évènements pour Generations NC
REFRESH-INTERVAL;VALUE=DURATION:PT1H
X-Robots-Tag:noindex
X-PUBLISHED-TTL:PT1H
BEGIN:VTIMEZONE
TZID:Pacific/Noumea
BEGIN:STANDARD
TZOFFSETFROM:+1100
TZOFFSETTO:+1100
TZNAME:+11
DTSTART:20220101T000000
END:STANDARD
END:VTIMEZONE
BEGIN:VEVENT
DTSTART;TZID=Pacific/Noumea:20220712T170000
DTEND;TZID=Pacific/Noumea:20220712T183000
DTSTAMP:20260425T041319
CREATED:20220804T055846Z
LAST-MODIFIED:20220804T055851Z
UID:3756-1657645200-1657650600@generations.nc
SUMMARY:Farino - Conseil municipal
DESCRIPTION:
URL:https://generations.nc/evenement/farino-conseil-municipal-5/
ATTACH;FMTTYPE=image/png:https://generations.nc/wp-content/uploads/2022/08/Mairie-de-Farino.png
END:VEVENT
END:VCALENDAR