BEGIN:VCALENDAR
VERSION:2.0
PRODID:-//Generations NC - ECPv6.14.2//NONSGML v1.0//EN
CALSCALE:GREGORIAN
METHOD:PUBLISH
X-WR-CALNAME:Generations NC
X-ORIGINAL-URL:https://generations.nc
X-WR-CALDESC:Évènements pour Generations NC
REFRESH-INTERVAL;VALUE=DURATION:PT1H
X-Robots-Tag:noindex
X-PUBLISHED-TTL:PT1H
BEGIN:VTIMEZONE
TZID:Pacific/Noumea
BEGIN:STANDARD
TZOFFSETFROM:+1100
TZOFFSETTO:+1100
TZNAME:+11
DTSTART:20220101T000000
END:STANDARD
END:VTIMEZONE
BEGIN:VEVENT
DTSTART;TZID=Pacific/Noumea:20220601T180000
DTEND;TZID=Pacific/Noumea:20220601T200000
DTSTAMP:20260425T053739
CREATED:20220524T235432Z
LAST-MODIFIED:20220524T235446Z
UID:3514-1654106400-1654113600@generations.nc
SUMMARY:Mont-Dore: Réunion Publique avec Nicolas Metzdorf et Willy Gatuhau
DESCRIPTION:Législatives 2022: RDV à la mairie du Mont-Dore le 1er juin à 18h
URL:https://generations.nc/evenement/mont-dore-reunion-publique-avec-nicolas-metzdorf-et-willy-gatuhau/
ATTACH;FMTTYPE=image/jpeg:https://generations.nc/wp-content/uploads/2022/05/photo_2022-05-25_10-51-13.jpg
END:VEVENT
BEGIN:VEVENT
DTSTART;TZID=Pacific/Noumea:20220602T180000
DTEND;TZID=Pacific/Noumea:20220602T200000
DTSTAMP:20260425T053739
CREATED:20220510T030158Z
LAST-MODIFIED:20220510T030201Z
UID:3344-1654192800-1654200000@generations.nc
SUMMARY:Bourail: Réunion Publique avec Nicolas Metzdorf
DESCRIPTION:Législatives 2022 \nRDV Jeudi 02 juin à 18h au Colisée
URL:https://generations.nc/evenement/bourail-reunion-publique-avec-nicolas-metzdorf/
ATTACH;FMTTYPE=image/jpeg:https://generations.nc/wp-content/uploads/2022/05/ok-INVITATION-NM-carre-modele3.jpg
END:VEVENT
BEGIN:VEVENT
DTSTART;TZID=Pacific/Noumea:20220604T080000
DTEND;TZID=Pacific/Noumea:20220604T120000
DTSTAMP:20260425T053739
CREATED:20220529T211710Z
LAST-MODIFIED:20220529T211716Z
UID:3549-1654329600-1654344000@generations.nc
SUMMARY:Koutio / Dumbéa: Réunion publique avec Nicolas Metzdorf et Willy Gatuhau
DESCRIPTION:Législatives 2022: RDV le samedi 04 juin à partir de 8h au Studio 56
URL:https://generations.nc/evenement/koutio-dumbea-reunion-publique-avec-nicolas-metzdorf-et-willy-gatuhau/
ATTACH;FMTTYPE=image/jpeg:https://generations.nc/wp-content/uploads/2022/05/photo_2022-05-30_08-10-22.jpg
END:VEVENT
BEGIN:VEVENT
DTSTART;TZID=Pacific/Noumea:20220604T180000
DTEND;TZID=Pacific/Noumea:20220604T200000
DTSTAMP:20260425T053739
CREATED:20220529T212108Z
LAST-MODIFIED:20220529T212221Z
UID:3552-1654365600-1654372800@generations.nc
SUMMARY:Poindimié: Réunion Publique avec Nicolas Metzdorf et Willy Gatuhau
DESCRIPTION:Législatives 2022: RDV le samedi 04 juin au Tiéti à 18h
URL:https://generations.nc/evenement/poindimie-reunion-publique-avec-nicolas-metzdorf-et-willy-gatuhau/
ATTACH;FMTTYPE=image/jpeg:https://generations.nc/wp-content/uploads/2022/05/photo_2022-05-30_08-10-28.jpg
END:VEVENT
BEGIN:VEVENT
DTSTART;TZID=Pacific/Noumea:20220605T180000
DTEND;TZID=Pacific/Noumea:20220605T200000
DTSTAMP:20260425T053739
CREATED:20220529T212514Z
LAST-MODIFIED:20220529T212517Z
UID:3555-1654452000-1654459200@generations.nc
SUMMARY:Koumac: Réunion Publique avec Nicolas Metzdorf et Willy Gatuhau
DESCRIPTION:Législatives 2022: RDV dimanche 05 juin dans les jardins de la mairie à 18h
URL:https://generations.nc/evenement/koumac-reunion-publique-avec-nicolas-metzdorf-et-willy-gatuhau/
ATTACH;FMTTYPE=image/jpeg:https://generations.nc/wp-content/uploads/2022/05/photo_2022-05-30_08-10-32.jpg
END:VEVENT
BEGIN:VEVENT
DTSTART;TZID=Pacific/Noumea:20220606T180000
DTEND;TZID=Pacific/Noumea:20220606T180000
DTSTAMP:20260425T053739
CREATED:20220603T222956Z
LAST-MODIFIED:20220603T223000Z
UID:3591-1654538400-1654538400@generations.nc
SUMMARY:Facebook Live Spécial : Les exclus du corps électoral
DESCRIPTION:Législatives 2022: RDV Lundi 06 juin à 18h avec Nicolas Metzdorf et Willy Gatuhau
URL:https://generations.nc/evenement/facebook-live-special-les-exclus-du-corps-electoral/
ATTACH;FMTTYPE=image/jpeg:https://generations.nc/wp-content/uploads/2022/06/FB-LIVE-NM-WG.jpg
END:VEVENT
BEGIN:VEVENT
DTSTART;TZID=Pacific/Noumea:20220607T073000
DTEND;TZID=Pacific/Noumea:20220607T080000
DTSTAMP:20260425T053739
CREATED:20220606T091607Z
LAST-MODIFIED:20220606T091616Z
UID:3606-1654587000-1654588800@generations.nc
SUMMARY:RRB : Nicolas Metzdorf\, l'invité du matin
DESCRIPTION:Mardi 07 juin à 7h30
URL:https://generations.nc/evenement/rrb-nicolas-metzdorf-linvite-du-matin/
ATTACH;FMTTYPE=image/jpeg:https://generations.nc/wp-content/uploads/2022/06/photo_2022-06-06_20-08-42.jpg
END:VEVENT
BEGIN:VEVENT
DTSTART;TZID=Pacific/Noumea:20220607T193000
DTEND;TZID=Pacific/Noumea:20220607T200000
DTSTAMP:20260425T053739
CREATED:20220606T091130Z
LAST-MODIFIED:20220606T091134Z
UID:3600-1654630200-1654632000@generations.nc
SUMMARY:NC1ère : Nicolas Metzdorf l'invité politique du journal
DESCRIPTION:Mardi 07 juin à 19h30
URL:https://generations.nc/evenement/nc1ere-nicolas-metzdorf-linvite-politique-du-journal/
ATTACH;FMTTYPE=image/jpeg:https://generations.nc/wp-content/uploads/2022/06/photo_2022-06-06_20-08-30.jpg
END:VEVENT
BEGIN:VEVENT
DTSTART;TZID=Pacific/Noumea:20220608T180000
DTEND;TZID=Pacific/Noumea:20220608T200000
DTSTAMP:20260425T053739
CREATED:20220603T223349Z
LAST-MODIFIED:20220604T052936Z
UID:3594-1654711200-1654718400@generations.nc
SUMMARY:PAITA : MEETING avec Nicolas Metzdorf et Willy Gatuhau
DESCRIPTION:Législatives 2022: RDV le 08 juin au dock socioculturel de Paita à 18h
URL:https://generations.nc/evenement/paita-meeting-avec-nicolas-metzdorf-et-willy-gatuhau/
ATTACH;FMTTYPE=image/jpeg:https://generations.nc/wp-content/uploads/2022/06/Meeting-Paita.jpg
END:VEVENT
BEGIN:VEVENT
DTSTART;TZID=Pacific/Noumea:20220609T200000
DTEND;TZID=Pacific/Noumea:20220609T203000
DTSTAMP:20260425T053739
CREATED:20220606T091358Z
LAST-MODIFIED:20220606T091727Z
UID:3603-1654804800-1654806600@generations.nc
SUMMARY:NC1ère : Le débat de la 2ème circonscription avec Nicolas Metzdorf
DESCRIPTION:Jeudi 09 juin à 20h
URL:https://generations.nc/evenement/nc1ere-le-debat-de-la-2eme-circonscription-avec-nicolas-metzdorf/
ATTACH;FMTTYPE=image/jpeg:https://generations.nc/wp-content/uploads/2022/06/photo_2022-06-06_20-08-37.jpg
END:VEVENT
BEGIN:VEVENT
DTSTART;TZID=Pacific/Noumea:20220610T113000
DTEND;TZID=Pacific/Noumea:20220610T120000
DTSTAMP:20260425T053739
CREATED:20220608T084841Z
LAST-MODIFIED:20220608T084845Z
UID:3621-1654860600-1654862400@generations.nc
SUMMARY:Radio Océane FM TV : Nicolas Metzdorf l'invité du jour
DESCRIPTION:Législatives 2022: RDV vendredi 10 juin à 11h30
URL:https://generations.nc/evenement/radio-oceane-fm-tv-nicolas-metzdorf-linvite-du-jour/
ATTACH;FMTTYPE=image/jpeg:https://generations.nc/wp-content/uploads/2022/06/photo_2022-06-08_18-44-49.jpg
END:VEVENT
BEGIN:VEVENT
DTSTART;TZID=Pacific/Noumea:20220610T180000
DTEND;TZID=Pacific/Noumea:20220610T200000
DTSTAMP:20260425T053739
CREATED:20220603T222702Z
LAST-MODIFIED:20220610T004703Z
UID:3588-1654884000-1654891200@generations.nc
SUMMARY:LA FOA : MEETING avec Nicolas Metzdorf et Willy Gatuhau
DESCRIPTION:Législatives 2022: RDV à l’hippodrome de LA FOA le vendredi 10 juin à 18h00
URL:https://generations.nc/evenement/la-foa-meeting-avec-nicolas-metzdorf-et-willy-gatuhau/
ATTACH;FMTTYPE=image/jpeg:https://generations.nc/wp-content/uploads/2022/06/photo_2022-06-10_11-15-37.jpg
END:VEVENT
BEGIN:VEVENT
DTSTART;VALUE=DATE:20220612
DTEND;VALUE=DATE:20220613
DTSTAMP:20260425T053739
CREATED:20220204T093528Z
LAST-MODIFIED:20220321T113810Z
UID:3069-1654992000-1655078399@generations.nc
SUMMARY:Election Législative
DESCRIPTION:12 et 19 juin 2022
URL:https://generations.nc/evenement/elections-legislatives/
ATTACH;FMTTYPE=image/png:https://generations.nc/wp-content/uploads/2022/02/Legislatives-2022.png
END:VEVENT
BEGIN:VEVENT
DTSTART;TZID=Pacific/Noumea:20220614T120000
DTEND;TZID=Pacific/Noumea:20220614T123000
DTSTAMP:20260425T053739
CREATED:20220613T091214Z
LAST-MODIFIED:20220613T091228Z
UID:3663-1655208000-1655209800@generations.nc
SUMMARY:RRB : Le débat avec Nicolas Metzdorf
DESCRIPTION:Législatives 2022: RDV mardi 14 juin à 12h sur RRB
URL:https://generations.nc/evenement/rrb-le-debat-avec-nicolas-metzdorf/
ATTACH;FMTTYPE=image/jpeg:https://generations.nc/wp-content/uploads/2022/06/A-RRB-MARDI-14-JUIN-DEBAT.jpg
END:VEVENT
BEGIN:VEVENT
DTSTART;TZID=Pacific/Noumea:20220614T180000
DTEND;TZID=Pacific/Noumea:20220614T183000
DTSTAMP:20260425T053739
CREATED:20220613T091640Z
LAST-MODIFIED:20220613T091656Z
UID:3666-1655229600-1655231400@generations.nc
SUMMARY:Calédonia : Nicolas Metzdorf - l'invitée du journal
DESCRIPTION:Législatives 2022: RDV le mardi 14 juin à 18h sur Calédonia
URL:https://generations.nc/evenement/caledonia-nicolas-metzdorf-linvitee-du-journal/
ATTACH;FMTTYPE=image/jpeg:https://generations.nc/wp-content/uploads/2022/06/photo_2022-06-13_19-49-28.jpg
END:VEVENT
BEGIN:VEVENT
DTSTART;TZID=Pacific/Noumea:20220615T180000
DTEND;TZID=Pacific/Noumea:20220615T200000
DTSTAMP:20260425T053739
CREATED:20220613T092311Z
LAST-MODIFIED:20220613T092316Z
UID:3669-1655316000-1655323200@generations.nc
SUMMARY:Dumbéa : MEETING avec les candidats de l'union loyaliste
DESCRIPTION:Législatives 2022: RDV à Dumbéa au studio 56 le mercredi 15 juin à 18h
URL:https://generations.nc/evenement/dumbea-meeting-avec-les-candidats-de-lunion-loyaliste/
ATTACH;FMTTYPE=image/jpeg:https://generations.nc/wp-content/uploads/2022/06/photo_2022-06-13_19-49-36.jpg
END:VEVENT
BEGIN:VEVENT
DTSTART;TZID=Pacific/Noumea:20220616T070000
DTEND;TZID=Pacific/Noumea:20220616T073000
DTSTAMP:20260425T053739
CREATED:20220613T090308Z
LAST-MODIFIED:20220613T090317Z
UID:3655-1655362800-1655364600@generations.nc
SUMMARY:NC1ère la radio: Nicolas Metzdorf - l'invité du matin
DESCRIPTION:Législatives 2022: RDV jeudi 16 juin à 7h sur NC 1ère la radio
URL:https://generations.nc/evenement/nc1ere-la-radio-nicolas-metzdorf-linvite-du-matin/
ATTACH;FMTTYPE=image/jpeg:https://generations.nc/wp-content/uploads/2022/06/A-nc1ere-invite-du-matin-jeudi-16-juin-a-7-h.jpg
END:VEVENT
BEGIN:VEVENT
DTSTART;TZID=Pacific/Noumea:20220616T120000
DTEND;TZID=Pacific/Noumea:20220616T123000
DTSTAMP:20260425T053739
CREATED:20220615T024643Z
LAST-MODIFIED:20220615T024648Z
UID:3678-1655380800-1655382600@generations.nc
SUMMARY:Radio Djiido : Nicolas Metzdorf
DESCRIPTION:Législatives 2022 : Rdv jeudi 16 juin à midi sur radio Djiido
URL:https://generations.nc/evenement/radio-djiido-nicolas-metzdorf/
ATTACH;FMTTYPE=image/jpeg:https://generations.nc/wp-content/uploads/2022/06/2022.06.15-DJIIDO.jpg
END:VEVENT
BEGIN:VEVENT
DTSTART;TZID=Pacific/Noumea:20220616T210000
DTEND;TZID=Pacific/Noumea:20220616T213000
DTSTAMP:20260425T053739
CREATED:20220613T085719Z
LAST-MODIFIED:20220613T090424Z
UID:3652-1655413200-1655415000@generations.nc
SUMMARY:JT NC 1ère : Le débat télévisé avec Nicolas Metzdorf
DESCRIPTION:Législatives 2022: RDV le jeudi 16 juin à 21h sur NC 1ère le JT
URL:https://generations.nc/evenement/nc-1ere-le-debat-televise-avec-nicolas-metzdorf/
ATTACH;FMTTYPE=image/jpeg:https://generations.nc/wp-content/uploads/2022/06/a-NC1ERE-DEBAT-JEUDI-16-JUIN-a-21-h.jpg
END:VEVENT
BEGIN:VEVENT
DTSTART;TZID=Pacific/Noumea:20220617T113000
DTEND;TZID=Pacific/Noumea:20220617T120000
DTSTAMP:20260425T053739
CREATED:20220615T025803Z
LAST-MODIFIED:20220615T025807Z
UID:3684-1655465400-1655467200@generations.nc
SUMMARY:Radio Océane : Le débat avec Nicolas Metzdorf
DESCRIPTION:Législatives 2022: RDV sur Radio Océane le vendredi 17 juin à 11h30
URL:https://generations.nc/evenement/radio-oceane-le-debat-avec-nicolas-metzdorf/
ATTACH;FMTTYPE=image/jpeg:https://generations.nc/wp-content/uploads/2022/06/2022.06.17-DEBAT-OCEANE.jpg
END:VEVENT
BEGIN:VEVENT
DTSTART;TZID=Pacific/Noumea:20220617T180000
DTEND;TZID=Pacific/Noumea:20220617T200000
DTSTAMP:20260425T053739
CREATED:20220613T090855Z
LAST-MODIFIED:20220613T090900Z
UID:3660-1655488800-1655496000@generations.nc
SUMMARY:KONE : MEETING avec Nicolas Metzdorf et Willy Gatuhau
DESCRIPTION:Législatives 2022 : RDV vendredi 17 juin à 18h au Pitiri à Koné
URL:https://generations.nc/evenement/kone-meeting-avec-nicolas-metzdorf-et-willy-gatuhau/
ATTACH;FMTTYPE=image/jpeg:https://generations.nc/wp-content/uploads/2022/06/a-REUNION-KONE.jpg
END:VEVENT
BEGIN:VEVENT
DTSTART;VALUE=DATE:20220619
DTEND;VALUE=DATE:20220620
DTSTAMP:20260425T053739
CREATED:20220204T093639Z
LAST-MODIFIED:20220321T113819Z
UID:3072-1655596800-1655683199@generations.nc
SUMMARY:Election Législative
DESCRIPTION:19 juin 2022
URL:https://generations.nc/evenement/elections-legislatives-2/
ATTACH;FMTTYPE=image/png:https://generations.nc/wp-content/uploads/2022/02/Legislatives-2022.png
END:VEVENT
END:VCALENDAR