BEGIN:VCALENDAR
VERSION:2.0
PRODID:-//Generations NC - ECPv6.14.2//NONSGML v1.0//EN
CALSCALE:GREGORIAN
METHOD:PUBLISH
X-WR-CALNAME:Generations NC
X-ORIGINAL-URL:https://generations.nc
X-WR-CALDESC:Évènements pour Generations NC
REFRESH-INTERVAL;VALUE=DURATION:PT1H
X-Robots-Tag:noindex
X-PUBLISHED-TTL:PT1H
BEGIN:VTIMEZONE
TZID:Pacific/Noumea
BEGIN:STANDARD
TZOFFSETFROM:+1100
TZOFFSETTO:+1100
TZNAME:+11
DTSTART:20250101T000000
END:STANDARD
END:VTIMEZONE
BEGIN:VEVENT
DTSTART;TZID=Pacific/Noumea:20250813T170000
DTEND;TZID=Pacific/Noumea:20250813T190000
DTSTAMP:20260422T212356
CREATED:20250804T044028Z
LAST-MODIFIED:20250804T044028Z
UID:5091-1755104400-1755111600@generations.nc
SUMMARY:Conseil municipal de Nouméa
DESCRIPTION:
URL:https://generations.nc/evenement/conseil-municipal-de-noumea-2/
ATTACH;FMTTYPE=image/png:https://generations.nc/wp-content/uploads/2023/06/emmanuel-berart-requin.png
END:VEVENT
END:VCALENDAR