BEGIN:VCALENDAR
VERSION:2.0
PRODID:-//Generations NC - ECPv6.14.2//NONSGML v1.0//EN
CALSCALE:GREGORIAN
METHOD:PUBLISH
X-WR-CALNAME:Generations NC
X-ORIGINAL-URL:https://generations.nc
X-WR-CALDESC:Évènements pour Generations NC
REFRESH-INTERVAL;VALUE=DURATION:PT1H
X-Robots-Tag:noindex
X-PUBLISHED-TTL:PT1H
BEGIN:VTIMEZONE
TZID:Pacific/Noumea
BEGIN:STANDARD
TZOFFSETFROM:+1100
TZOFFSETTO:+1100
TZNAME:+11
DTSTART:20250101T000000
END:STANDARD
END:VTIMEZONE
BEGIN:VEVENT
DTSTART;TZID=Pacific/Noumea:20250811T180000
DTEND;TZID=Pacific/Noumea:20250811T193000
DTSTAMP:20260422T212324
CREATED:20250804T043810Z
LAST-MODIFIED:20250804T043810Z
UID:5088-1754935200-1754940600@generations.nc
SUMMARY:Réunion "Accord de Bougival" - Salle des Communautés au Vallon Dore (wharf)
DESCRIPTION:
URL:https://generations.nc/evenement/reunion-accord-de-bougival-salle-des-communautes-au-vallon-dore-wharf/
ATTACH;FMTTYPE=image/png:https://generations.nc/wp-content/uploads/2025/08/11.08.2025-Vallon-Dore-MDore-NM-NJ.png
END:VEVENT
END:VCALENDAR