BEGIN:VCALENDAR
VERSION:2.0
PRODID:-//Generations NC - ECPv6.14.2//NONSGML v1.0//EN
CALSCALE:GREGORIAN
METHOD:PUBLISH
X-ORIGINAL-URL:https://generations.nc
X-WR-CALDESC:Évènements pour Generations NC
REFRESH-INTERVAL;VALUE=DURATION:PT1H
X-Robots-Tag:noindex
X-PUBLISHED-TTL:PT1H
BEGIN:VTIMEZONE
TZID:Pacific/Noumea
BEGIN:STANDARD
TZOFFSETFROM:+1100
TZOFFSETTO:+1100
TZNAME:+11
DTSTART:20250101T000000
END:STANDARD
END:VTIMEZONE
BEGIN:VEVENT
DTSTART;TZID=Pacific/Noumea:20250304T180000
DTEND;TZID=Pacific/Noumea:20250304T190000
DTSTAMP:20260423T011056
CREATED:20250228T042231Z
LAST-MODIFIED:20250228T043046Z
UID:4954-1741111200-1741114800@generations.nc
SUMMARY:RÉUNION PUBLIQUE - WHARF DU VALLON DORE
DESCRIPTION:
URL:https://generations.nc/evenement/reunion-publique-salle-des-communautes-au-mont-dore-sud/
ATTACH;FMTTYPE=image/png:https://generations.nc/wp-content/uploads/2025/02/FB-POST-Reunion-publique-ce-mardi-4-mars.png
END:VEVENT
END:VCALENDAR