BEGIN:VCALENDAR
VERSION:2.0
PRODID:-//Generations NC - ECPv6.14.2//NONSGML v1.0//EN
CALSCALE:GREGORIAN
METHOD:PUBLISH
X-ORIGINAL-URL:https://generations.nc
X-WR-CALDESC:Évènements pour Generations NC
REFRESH-INTERVAL;VALUE=DURATION:PT1H
X-Robots-Tag:noindex
X-PUBLISHED-TTL:PT1H
BEGIN:VTIMEZONE
TZID:Pacific/Noumea
BEGIN:STANDARD
TZOFFSETFROM:+1100
TZOFFSETTO:+1100
TZNAME:+11
DTSTART:20250101T000000
END:STANDARD
END:VTIMEZONE
BEGIN:VEVENT
DTSTART;TZID=Pacific/Noumea:20250217T180000
DTEND;TZID=Pacific/Noumea:20250217T193000
DTSTAMP:20260423T025015
CREATED:20250212T065525Z
LAST-MODIFIED:20250212T065823Z
UID:4927-1739815200-1739820600@generations.nc
SUMMARY:Réunion publique Générations Dumbéa en présence de Nicolas Metzdorf et de vos élus Cynthia Jan & Loïc Basset-Creugnet
DESCRIPTION:Au Croque Mitaine au Tennis club d’Auteuil – pour voir le plan cliquez sur l’événement \n  \n 
URL:https://generations.nc/evenement/reunion-publique-generations-dumbea-en-presence-de-nicolas-metzdorf-et-de-vos-elus-cynthia-jan-loic-basset-creugnet/
ATTACH;FMTTYPE=image/png:https://generations.nc/wp-content/uploads/2025/02/DUMBEA-20252.png
END:VEVENT
END:VCALENDAR