BEGIN:VCALENDAR
VERSION:2.0
PRODID:-//Generations NC - ECPv6.14.2//NONSGML v1.0//EN
CALSCALE:GREGORIAN
METHOD:PUBLISH
X-ORIGINAL-URL:https://generations.nc
X-WR-CALDESC:Évènements pour Generations NC
REFRESH-INTERVAL;VALUE=DURATION:PT1H
X-Robots-Tag:noindex
X-PUBLISHED-TTL:PT1H
BEGIN:VTIMEZONE
TZID:Pacific/Noumea
BEGIN:STANDARD
TZOFFSETFROM:+1100
TZOFFSETTO:+1100
TZNAME:+11
DTSTART:20240101T000000
END:STANDARD
END:VTIMEZONE
BEGIN:VEVENT
DTSTART;TZID=Pacific/Noumea:20241214T083000
DTEND;TZID=Pacific/Noumea:20241214T110000
DTSTAMP:20260423T060949
CREATED:20241210T033906Z
LAST-MODIFIED:20241210T033906Z
UID:4904-1734165000-1734174000@generations.nc
SUMMARY:Petit Déjeuner Générations Mont-Dore
DESCRIPTION:https://forms.gle/2x2rAZdiSK7qtHFp6
URL:https://generations.nc/evenement/petit-dejeuner-generations-mont-dore/
ATTACH;FMTTYPE=image/jpeg:https://generations.nc/wp-content/uploads/2024/10/VISAGE-LOGO.jpg
END:VEVENT
END:VCALENDAR