BEGIN:VCALENDAR
VERSION:2.0
PRODID:-//Generations NC - ECPv6.14.2//NONSGML v1.0//EN
CALSCALE:GREGORIAN
METHOD:PUBLISH
X-ORIGINAL-URL:https://generations.nc
X-WR-CALDESC:Évènements pour Generations NC
REFRESH-INTERVAL;VALUE=DURATION:PT1H
X-Robots-Tag:noindex
X-PUBLISHED-TTL:PT1H
BEGIN:VTIMEZONE
TZID:Pacific/Noumea
BEGIN:STANDARD
TZOFFSETFROM:+1100
TZOFFSETTO:+1100
TZNAME:+11
DTSTART:20240101T000000
END:STANDARD
END:VTIMEZONE
BEGIN:VEVENT
DTSTART;TZID=Pacific/Noumea:20241114T180000
DTEND;TZID=Pacific/Noumea:20241114T193000
DTSTAMP:20260423T074207
CREATED:20241113T030848Z
LAST-MODIFIED:20241113T031902Z
UID:4837-1731607200-1731612600@generations.nc
SUMMARY:Réunion publique des Loyalistes
DESCRIPTION:Nous attirons votre attention quant au fait que le parking de l’hôtel est réservé aux forces de l’ordre\, nous vous invitons donc à privilégier le parking situé en face du Méridien (du Grand Casino).\n\nVeuillez noter toutefois qu’il sera possible de déposer les personnes à mobilité réduite devant l’hôtel directement.
URL:https://generations.nc/evenement/reunion-publique-des-loyalistes/
ATTACH;FMTTYPE=image/jpeg:https://generations.nc/wp-content/uploads/2024/11/2024.11.14-REUNION-LOYALISTES.jpg
END:VEVENT
END:VCALENDAR