BEGIN:VCALENDAR
VERSION:2.0
PRODID:-//Generations NC - ECPv6.14.2//NONSGML v1.0//EN
CALSCALE:GREGORIAN
METHOD:PUBLISH
X-ORIGINAL-URL:https://generations.nc
X-WR-CALDESC:Évènements pour Generations NC
REFRESH-INTERVAL;VALUE=DURATION:PT1H
X-Robots-Tag:noindex
X-PUBLISHED-TTL:PT1H
BEGIN:VTIMEZONE
TZID:Pacific/Noumea
BEGIN:STANDARD
TZOFFSETFROM:+1100
TZOFFSETTO:+1100
TZNAME:+11
DTSTART:20240101T000000
END:STANDARD
END:VTIMEZONE
BEGIN:VEVENT
DTSTART;TZID=Pacific/Noumea:20241107T100000
DTEND;TZID=Pacific/Noumea:20241107T120000
DTSTAMP:20260423T074200
CREATED:20241024T052037Z
LAST-MODIFIED:20241104T061550Z
UID:4823-1730973600-1730980800@generations.nc
SUMMARY:Mont-Dore - Conseil Municipal
DESCRIPTION:
URL:https://generations.nc/evenement/mont-dore-conseil-municipal-6/
ATTACH;FMTTYPE=image/jpeg:https://generations.nc/wp-content/uploads/2024/10/VISAGE-LOGO.jpg
END:VEVENT
BEGIN:VEVENT
DTSTART;TZID=Pacific/Noumea:20241107T180000
DTEND;TZID=Pacific/Noumea:20241107T193000
DTSTAMP:20260423T074200
CREATED:20241024T050645Z
LAST-MODIFIED:20241024T050645Z
UID:4812-1731002400-1731007800@generations.nc
SUMMARY:Réunion du Comité Nouméa
DESCRIPTION:à la permanence de Générations – 20 rue Anatole France\, Carré St Hubert au Centre ville
URL:https://generations.nc/evenement/reunion-du-comite-noumea-2/
ATTACH;FMTTYPE=image/jpeg:https://generations.nc/wp-content/uploads/2024/10/Capture-gnc-noumea-2.jpg
END:VEVENT
END:VCALENDAR