BEGIN:VCALENDAR
VERSION:2.0
PRODID:-//Generations NC - ECPv6.14.2//NONSGML v1.0//EN
CALSCALE:GREGORIAN
METHOD:PUBLISH
X-ORIGINAL-URL:https://generations.nc
X-WR-CALDESC:Évènements pour Generations NC
REFRESH-INTERVAL;VALUE=DURATION:PT1H
X-Robots-Tag:noindex
X-PUBLISHED-TTL:PT1H
BEGIN:VTIMEZONE
TZID:Pacific/Noumea
BEGIN:STANDARD
TZOFFSETFROM:+1100
TZOFFSETTO:+1100
TZNAME:+11
DTSTART:20240101T000000
END:STANDARD
END:VTIMEZONE
BEGIN:VEVENT
DTSTART;TZID=Pacific/Noumea:20241105T173000
DTEND;TZID=Pacific/Noumea:20241105T193000
DTSTAMP:20260423T074208
CREATED:20241024T051842Z
LAST-MODIFIED:20241024T051842Z
UID:4821-1730827800-1730835000@generations.nc
SUMMARY:Nouméa - Conseil Municipal
DESCRIPTION:
URL:https://generations.nc/evenement/noumea-conseil-municipal-7/
ATTACH;FMTTYPE=image/png:https://generations.nc/wp-content/uploads/2023/07/berart-001-Capture.png
END:VEVENT
END:VCALENDAR