BEGIN:VCALENDAR
VERSION:2.0
PRODID:-//Generations NC - ECPv6.14.2//NONSGML v1.0//EN
CALSCALE:GREGORIAN
METHOD:PUBLISH
X-ORIGINAL-URL:https://generations.nc
X-WR-CALDESC:Évènements pour Generations NC
REFRESH-INTERVAL;VALUE=DURATION:PT1H
X-Robots-Tag:noindex
X-PUBLISHED-TTL:PT1H
BEGIN:VTIMEZONE
TZID:Pacific/Noumea
BEGIN:STANDARD
TZOFFSETFROM:+1100
TZOFFSETTO:+1100
TZNAME:+11
DTSTART:20240101T000000
END:STANDARD
END:VTIMEZONE
BEGIN:VEVENT
DTSTART;TZID=Pacific/Noumea:20240920T180000
DTEND;TZID=Pacific/Noumea:20240920T210000
DTSTAMP:20260423T113042
CREATED:20240918T070447Z
LAST-MODIFIED:20240918T070447Z
UID:4741-1726855200-1726866000@generations.nc
SUMMARY:NOCTURNE - MARCHE DU MONT-DORE SUD - WHARF DU VALLON DORE
DESCRIPTION:
URL:https://generations.nc/evenement/nocturne-marche-du-mont-dore-sud-wharf-du-vallon-dore/
ATTACH;FMTTYPE=image/png:https://generations.nc/wp-content/uploads/2024/09/Nocturne-01-v.012.png
END:VEVENT
END:VCALENDAR