BEGIN:VCALENDAR
VERSION:2.0
PRODID:-//Generations NC - ECPv6.14.2//NONSGML v1.0//EN
CALSCALE:GREGORIAN
METHOD:PUBLISH
X-ORIGINAL-URL:https://generations.nc
X-WR-CALDESC:Évènements pour Generations NC
REFRESH-INTERVAL;VALUE=DURATION:PT1H
X-Robots-Tag:noindex
X-PUBLISHED-TTL:PT1H
BEGIN:VTIMEZONE
TZID:Pacific/Noumea
BEGIN:STANDARD
TZOFFSETFROM:+1100
TZOFFSETTO:+1100
TZNAME:+11
DTSTART:20240101T000000
END:STANDARD
END:VTIMEZONE
BEGIN:VEVENT
DTSTART;TZID=Pacific/Noumea:20240819T160000
DTEND;TZID=Pacific/Noumea:20240819T180000
DTSTAMP:20260423T125406
CREATED:20240813T223152Z
LAST-MODIFIED:20240813T223217Z
UID:4683-1724083200-1724090400@generations.nc
SUMMARY:Boulouparis - Réunion Publique au Banian (route de Bouraké)
DESCRIPTION:
URL:https://generations.nc/evenement/boulouparis-reunion-publique-au-banian-route-de-bourake/
ATTACH;FMTTYPE=image/png:https://generations.nc/wp-content/uploads/2024/08/Boulouparis-19.08.24-3.png
END:VEVENT
END:VCALENDAR