BEGIN:VCALENDAR
VERSION:2.0
PRODID:-//Generations NC - ECPv6.14.2//NONSGML v1.0//EN
CALSCALE:GREGORIAN
METHOD:PUBLISH
X-WR-CALNAME:Generations NC
X-ORIGINAL-URL:https://generations.nc
X-WR-CALDESC:Évènements pour Generations NC
REFRESH-INTERVAL;VALUE=DURATION:PT1H
X-Robots-Tag:noindex
X-PUBLISHED-TTL:PT1H
BEGIN:VTIMEZONE
TZID:Pacific/Noumea
BEGIN:STANDARD
TZOFFSETFROM:+1100
TZOFFSETTO:+1100
TZNAME:+11
DTSTART:20240101T000000
END:STANDARD
END:VTIMEZONE
BEGIN:VEVENT
DTSTART;TZID=Pacific/Noumea:20240705T070000
DTEND;TZID=Pacific/Noumea:20240705T080000
DTSTAMP:20260423T142813
CREATED:20240704T074642Z
LAST-MODIFIED:20240704T074642Z
UID:4606-1720162800-1720166400@generations.nc
SUMMARY:Nicolas Metzdorf - Invité radio
DESCRIPTION:
URL:https://generations.nc/evenement/nicolas-metzdorf-invite-radio/
ATTACH;FMTTYPE=image/jpeg:https://generations.nc/wp-content/uploads/2024/07/rrb.jpg
END:VEVENT
END:VCALENDAR