BEGIN:VCALENDAR
VERSION:2.0
PRODID:-//Generations NC - ECPv6.14.2//NONSGML v1.0//EN
CALSCALE:GREGORIAN
METHOD:PUBLISH
X-WR-CALNAME:Generations NC
X-ORIGINAL-URL:https://generations.nc
X-WR-CALDESC:Évènements pour Generations NC
REFRESH-INTERVAL;VALUE=DURATION:PT1H
X-Robots-Tag:noindex
X-PUBLISHED-TTL:PT1H
BEGIN:VTIMEZONE
TZID:Pacific/Noumea
BEGIN:STANDARD
TZOFFSETFROM:+1100
TZOFFSETTO:+1100
TZNAME:+11
DTSTART:20240101T000000
END:STANDARD
END:VTIMEZONE
BEGIN:VEVENT
DTSTART;TZID=Pacific/Noumea:20240704T200000
DTEND;TZID=Pacific/Noumea:20240704T210000
DTSTAMP:20260423T142710
CREATED:20240703T214755Z
LAST-MODIFIED:20240703T214755Z
UID:4598-1720123200-1720126800@generations.nc
SUMMARY:LÉGISLATIVES - Débat télévisé
DESCRIPTION:Nicolas Metzdorf – candidat de la 1ère circonscription
URL:https://generations.nc/evenement/legislatives-debat-televise/
ATTACH;FMTTYPE=image/jpeg:https://generations.nc/wp-content/uploads/2024/07/2024.07.04-debat.jpg
END:VEVENT
END:VCALENDAR