BEGIN:VCALENDAR
VERSION:2.0
PRODID:-//Generations NC - ECPv6.14.2//NONSGML v1.0//EN
CALSCALE:GREGORIAN
METHOD:PUBLISH
X-WR-CALNAME:Generations NC
X-ORIGINAL-URL:https://generations.nc
X-WR-CALDESC:Évènements pour Generations NC
REFRESH-INTERVAL;VALUE=DURATION:PT1H
X-Robots-Tag:noindex
X-PUBLISHED-TTL:PT1H
BEGIN:VTIMEZONE
TZID:Pacific/Noumea
BEGIN:STANDARD
TZOFFSETFROM:+1100
TZOFFSETTO:+1100
TZNAME:+11
DTSTART:20240101T000000
END:STANDARD
END:VTIMEZONE
BEGIN:VEVENT
DTSTART;TZID=Pacific/Noumea:20240703T193000
DTEND;TZID=Pacific/Noumea:20240703T200000
DTSTAMP:20260423T142844
CREATED:20240703T000403Z
LAST-MODIFIED:20240703T000839Z
UID:4547-1720035000-1720036800@generations.nc
SUMMARY:Nicolas Metzdorf - Invité du JT
DESCRIPTION:
URL:https://generations.nc/evenement/nicolas-metzdorf-invite-du-jt/
ATTACH;FMTTYPE=image/jpeg:https://generations.nc/wp-content/uploads/2024/07/photo_2024-07-03_11-09-31.jpg
END:VEVENT
END:VCALENDAR