BEGIN:VCALENDAR
VERSION:2.0
PRODID:-//Generations NC - ECPv6.14.2//NONSGML v1.0//EN
CALSCALE:GREGORIAN
METHOD:PUBLISH
X-ORIGINAL-URL:https://generations.nc
X-WR-CALDESC:Évènements pour Generations NC
REFRESH-INTERVAL;VALUE=DURATION:PT1H
X-Robots-Tag:noindex
X-PUBLISHED-TTL:PT1H
BEGIN:VTIMEZONE
TZID:Pacific/Noumea
BEGIN:STANDARD
TZOFFSETFROM:+1100
TZOFFSETTO:+1100
TZNAME:+11
DTSTART:20230101T000000
END:STANDARD
END:VTIMEZONE
BEGIN:VEVENT
DTSTART;TZID=Pacific/Noumea:20230824T173000
DTEND;TZID=Pacific/Noumea:20230824T190000
DTSTAMP:20260424T092714
CREATED:20230829T071816Z
LAST-MODIFIED:20230829T071816Z
UID:4304-1692898200-1692903600@generations.nc
SUMMARY:Conseil municipal du Mont-Dore
DESCRIPTION:à la Mairie à Boulari
URL:https://generations.nc/evenement/conseil-municipal-du-mont-dore-4/
ATTACH;FMTTYPE=image/png:https://generations.nc/wp-content/uploads/2023/07/cm-md-22.06.23.png
END:VEVENT
END:VCALENDAR