BEGIN:VCALENDAR
VERSION:2.0
PRODID:-//Generations NC - ECPv6.14.2//NONSGML v1.0//EN
CALSCALE:GREGORIAN
METHOD:PUBLISH
X-WR-CALNAME:Generations NC
X-ORIGINAL-URL:https://generations.nc
X-WR-CALDESC:Évènements pour Generations NC
REFRESH-INTERVAL;VALUE=DURATION:PT1H
X-Robots-Tag:noindex
X-PUBLISHED-TTL:PT1H
BEGIN:VTIMEZONE
TZID:Pacific/Noumea
BEGIN:STANDARD
TZOFFSETFROM:+1100
TZOFFSETTO:+1100
TZNAME:+11
DTSTART:20230101T000000
END:STANDARD
END:VTIMEZONE
BEGIN:VEVENT
DTSTART;TZID=Pacific/Noumea:20230823T180000
DTEND;TZID=Pacific/Noumea:20230823T193000
DTSTAMP:20260424T092519
CREATED:20230829T072055Z
LAST-MODIFIED:20230829T072055Z
UID:4306-1692813600-1692819000@generations.nc
SUMMARY:Réunion d'information
DESCRIPTION:au Restaurant l’Envergure à Boulari
URL:https://generations.nc/evenement/reunion-dinformation-2/
ATTACH;FMTTYPE=image/png:https://generations.nc/wp-content/uploads/2023/08/GNC-MONT-DORE.png
END:VEVENT
END:VCALENDAR