BEGIN:VCALENDAR
VERSION:2.0
PRODID:-//Generations NC - ECPv6.14.2//NONSGML v1.0//EN
CALSCALE:GREGORIAN
METHOD:PUBLISH
X-WR-CALNAME:Generations NC
X-ORIGINAL-URL:https://generations.nc
X-WR-CALDESC:Évènements pour Generations NC
REFRESH-INTERVAL;VALUE=DURATION:PT1H
X-Robots-Tag:noindex
X-PUBLISHED-TTL:PT1H
BEGIN:VTIMEZONE
TZID:Pacific/Noumea
BEGIN:STANDARD
TZOFFSETFROM:+1100
TZOFFSETTO:+1100
TZNAME:+11
DTSTART:20230101T000000
END:STANDARD
END:VTIMEZONE
BEGIN:VEVENT
DTSTART;TZID=Pacific/Noumea:20230321T173000
DTEND;TZID=Pacific/Noumea:20230321T193000
DTSTAMP:20260424T171029
CREATED:20230320T021609Z
LAST-MODIFIED:20230320T021609Z
UID:4085-1679419800-1679427000@generations.nc
SUMMARY:Générations Poya - Réunion Publique
DESCRIPTION:à la Mairie de Poya
URL:https://generations.nc/evenement/generations-poya-reunion-publique/
ATTACH;FMTTYPE=image/jpeg:https://generations.nc/wp-content/uploads/2023/03/reunion-poya.jpg
END:VEVENT
END:VCALENDAR