BEGIN:VCALENDAR
VERSION:2.0
PRODID:-//Generations NC - ECPv6.14.2//NONSGML v1.0//EN
CALSCALE:GREGORIAN
METHOD:PUBLISH
X-ORIGINAL-URL:https://generations.nc
X-WR-CALDESC:Évènements pour Generations NC
REFRESH-INTERVAL;VALUE=DURATION:PT1H
X-Robots-Tag:noindex
X-PUBLISHED-TTL:PT1H
BEGIN:VTIMEZONE
TZID:Pacific/Noumea
BEGIN:STANDARD
TZOFFSETFROM:+1100
TZOFFSETTO:+1100
TZNAME:+11
DTSTART:20230101T000000
END:STANDARD
END:VTIMEZONE
BEGIN:VEVENT
DTSTART;TZID=Pacific/Noumea:20230206T173000
DTEND;TZID=Pacific/Noumea:20230206T190000
DTSTAMP:20260424T184206
CREATED:20230207T000622Z
LAST-MODIFIED:20230207T000622Z
UID:4026-1675704600-1675710000@generations.nc
SUMMARY:Conseil Municipal à la Mairie de Pouembout
DESCRIPTION:
URL:https://generations.nc/evenement/conseil-municipal-a-la-mairie-de-pouembout/
ATTACH;FMTTYPE=image/jpeg:https://generations.nc/wp-content/uploads/2023/02/GEN-OK_Plan-de-travail-DEF-CMJN.jpg
END:VEVENT
END:VCALENDAR