BEGIN:VCALENDAR
VERSION:2.0
PRODID:-//Generations NC - ECPv6.14.2//NONSGML v1.0//EN
CALSCALE:GREGORIAN
METHOD:PUBLISH
X-WR-CALNAME:Generations NC
X-ORIGINAL-URL:https://generations.nc
X-WR-CALDESC:Évènements pour Generations NC
REFRESH-INTERVAL;VALUE=DURATION:PT1H
X-Robots-Tag:noindex
X-PUBLISHED-TTL:PT1H
BEGIN:VTIMEZONE
TZID:Pacific/Noumea
BEGIN:STANDARD
TZOFFSETFROM:+1100
TZOFFSETTO:+1100
TZNAME:+11
DTSTART:20230101T000000
END:STANDARD
END:VTIMEZONE
BEGIN:VEVENT
DTSTART;TZID=Pacific/Noumea:20230202T173000
DTEND;TZID=Pacific/Noumea:20230202T193000
DTSTAMP:20260424T183559
CREATED:20230207T000856Z
LAST-MODIFIED:20230207T000856Z
UID:4029-1675359000-1675366200@generations.nc
SUMMARY:Conseil Municipal à la Mairie de Nouméa
DESCRIPTION:Avec l’élu municipal Générations NC\, Emmanuel Bérart
URL:https://generations.nc/evenement/conseil-municipal-a-la-mairie-de-noumea/
ATTACH;FMTTYPE=image/png:https://generations.nc/wp-content/uploads/2022/02/Manu-2.png
END:VEVENT
END:VCALENDAR