BEGIN:VCALENDAR
VERSION:2.0
PRODID:-//Generations NC - ECPv6.14.2//NONSGML v1.0//EN
CALSCALE:GREGORIAN
METHOD:PUBLISH
X-WR-CALNAME:Generations NC
X-ORIGINAL-URL:https://generations.nc
X-WR-CALDESC:Évènements pour Generations NC
REFRESH-INTERVAL;VALUE=DURATION:PT1H
X-Robots-Tag:noindex
X-PUBLISHED-TTL:PT1H
BEGIN:VTIMEZONE
TZID:Pacific/Noumea
BEGIN:STANDARD
TZOFFSETFROM:+1100
TZOFFSETTO:+1100
TZNAME:+11
DTSTART:20220101T000000
END:STANDARD
END:VTIMEZONE
BEGIN:VEVENT
DTSTART;VALUE=DATE:20221224
DTEND;VALUE=DATE:20221226
DTSTAMP:20260424T214945
CREATED:20221223T055242Z
LAST-MODIFIED:20221223T055242Z
UID:3994-1671840000-1672012799@generations.nc
SUMMARY:Joyeux Noël
DESCRIPTION:
URL:https://generations.nc/evenement/joyeux-noel/
ATTACH;FMTTYPE=image/png:https://generations.nc/wp-content/uploads/2022/12/generations-voeux-de-noel.02.png
END:VEVENT
END:VCALENDAR