BEGIN:VCALENDAR
VERSION:2.0
PRODID:-//Generations NC - ECPv6.14.2//NONSGML v1.0//EN
CALSCALE:GREGORIAN
METHOD:PUBLISH
X-ORIGINAL-URL:https://generations.nc
X-WR-CALDESC:Évènements pour Generations NC
REFRESH-INTERVAL;VALUE=DURATION:PT1H
X-Robots-Tag:noindex
X-PUBLISHED-TTL:PT1H
BEGIN:VTIMEZONE
TZID:Pacific/Noumea
BEGIN:STANDARD
TZOFFSETFROM:+1100
TZOFFSETTO:+1100
TZNAME:+11
DTSTART:20220101T000000
END:STANDARD
END:VTIMEZONE
BEGIN:VEVENT
DTSTART;TZID=Pacific/Noumea:20221216T170000
DTEND;TZID=Pacific/Noumea:20221216T183000
DTSTAMP:20260424T220300
CREATED:20221204T234312Z
LAST-MODIFIED:20221204T234317Z
UID:3943-1671210000-1671215400@generations.nc
SUMMARY:Farino : Conseil municipal
DESCRIPTION:
URL:https://generations.nc/evenement/farino-conseil-municipal-6/
ATTACH;FMTTYPE=image/png:https://generations.nc/wp-content/uploads/2022/08/Mairie-de-Farino.png
END:VEVENT
END:VCALENDAR