BEGIN:VCALENDAR
VERSION:2.0
PRODID:-//Generations NC - ECPv6.14.2//NONSGML v1.0//EN
CALSCALE:GREGORIAN
METHOD:PUBLISH
X-WR-CALNAME:Generations NC
X-ORIGINAL-URL:https://generations.nc
X-WR-CALDESC:Évènements pour Generations NC
REFRESH-INTERVAL;VALUE=DURATION:PT1H
X-Robots-Tag:noindex
X-PUBLISHED-TTL:PT1H
BEGIN:VTIMEZONE
TZID:Pacific/Noumea
BEGIN:STANDARD
TZOFFSETFROM:+1100
TZOFFSETTO:+1100
TZNAME:+11
DTSTART:20220101T000000
END:STANDARD
END:VTIMEZONE
BEGIN:VEVENT
DTSTART;VALUE=DATE:20221203
DTEND;VALUE=DATE:20221205
DTSTAMP:20260424T213811
CREATED:20221124T000752Z
LAST-MODIFIED:20221124T000752Z
UID:3916-1670025600-1670198399@generations.nc
SUMMARY:TELETHON
DESCRIPTION:Pour une bonne action\, envoyez un SMS au 3637
URL:https://generations.nc/evenement/telethon/
ATTACH;FMTTYPE=image/jpeg:https://generations.nc/wp-content/uploads/2022/11/telethon-3637.jpg
END:VEVENT
END:VCALENDAR