BEGIN:VCALENDAR
VERSION:2.0
PRODID:-//Generations NC - ECPv6.14.2//NONSGML v1.0//EN
CALSCALE:GREGORIAN
METHOD:PUBLISH
X-WR-CALNAME:Generations NC
X-ORIGINAL-URL:https://generations.nc
X-WR-CALDESC:Évènements pour Generations NC
REFRESH-INTERVAL;VALUE=DURATION:PT1H
X-Robots-Tag:noindex
X-PUBLISHED-TTL:PT1H
BEGIN:VTIMEZONE
TZID:Pacific/Noumea
BEGIN:STANDARD
TZOFFSETFROM:+1100
TZOFFSETTO:+1100
TZNAME:+11
DTSTART:20220101T000000
END:STANDARD
END:VTIMEZONE
BEGIN:VEVENT
DTSTART;TZID=Pacific/Noumea:20220604T080000
DTEND;TZID=Pacific/Noumea:20220604T120000
DTSTAMP:20260425T065558
CREATED:20220529T211710Z
LAST-MODIFIED:20220529T211716Z
UID:3549-1654329600-1654344000@generations.nc
SUMMARY:Koutio / Dumbéa: Réunion publique avec Nicolas Metzdorf et Willy Gatuhau
DESCRIPTION:Législatives 2022: RDV le samedi 04 juin à partir de 8h au Studio 56
URL:https://generations.nc/evenement/koutio-dumbea-reunion-publique-avec-nicolas-metzdorf-et-willy-gatuhau/
ATTACH;FMTTYPE=image/jpeg:https://generations.nc/wp-content/uploads/2022/05/photo_2022-05-30_08-10-22.jpg
END:VEVENT
BEGIN:VEVENT
DTSTART;TZID=Pacific/Noumea:20220604T180000
DTEND;TZID=Pacific/Noumea:20220604T200000
DTSTAMP:20260425T065558
CREATED:20220529T212108Z
LAST-MODIFIED:20220529T212221Z
UID:3552-1654365600-1654372800@generations.nc
SUMMARY:Poindimié: Réunion Publique avec Nicolas Metzdorf et Willy Gatuhau
DESCRIPTION:Législatives 2022: RDV le samedi 04 juin au Tiéti à 18h
URL:https://generations.nc/evenement/poindimie-reunion-publique-avec-nicolas-metzdorf-et-willy-gatuhau/
ATTACH;FMTTYPE=image/jpeg:https://generations.nc/wp-content/uploads/2022/05/photo_2022-05-30_08-10-28.jpg
END:VEVENT
END:VCALENDAR