BEGIN:VCALENDAR
VERSION:2.0
PRODID:-//Generations NC - ECPv6.14.2//NONSGML v1.0//EN
CALSCALE:GREGORIAN
METHOD:PUBLISH
X-ORIGINAL-URL:https://generations.nc
X-WR-CALDESC:Évènements pour Generations NC
REFRESH-INTERVAL;VALUE=DURATION:PT1H
X-Robots-Tag:noindex
X-PUBLISHED-TTL:PT1H
BEGIN:VTIMEZONE
TZID:Pacific/Noumea
BEGIN:STANDARD
TZOFFSETFROM:+1100
TZOFFSETTO:+1100
TZNAME:+11
DTSTART:20220101T000000
END:STANDARD
END:VTIMEZONE
BEGIN:VEVENT
DTSTART;TZID=Pacific/Noumea:20220529T180000
DTEND;TZID=Pacific/Noumea:20220529T190000
DTSTAMP:20260425T082459
CREATED:20220509T234834Z
LAST-MODIFIED:20220509T235251Z
UID:3333-1653847200-1653850800@generations.nc
SUMMARY:Facebook Live avec Nicolas Metzdorf
DESCRIPTION:Législatives 2022 \nTous les dimanches à partir de 18h
URL:https://generations.nc/evenement/facebook-live-avec-nicolas-metzdorf-3/
ATTACH;FMTTYPE=image/png:https://generations.nc/wp-content/uploads/2022/05/FACEBOOK-LIVE-DIMANCHE.png
END:VEVENT
BEGIN:VEVENT
DTSTART;TZID=Pacific/Noumea:20220529T180000
DTEND;TZID=Pacific/Noumea:20220529T190000
DTSTAMP:20260425T082459
CREATED:20220529T211339Z
LAST-MODIFIED:20220529T211343Z
UID:3546-1653847200-1653850800@generations.nc
SUMMARY:Facebook Live de Nicolas Metzdorf et Willy Gatuhau
DESCRIPTION:Législatives 2022: Facebook live spécial programme
URL:https://generations.nc/evenement/facebook-live-de-nicolas-metzdorf-et-willy-gatuhau/
ATTACH;FMTTYPE=image/jpeg:https://generations.nc/wp-content/uploads/2022/05/photo_2022-05-30_08-10-12.jpg
END:VEVENT
END:VCALENDAR