BEGIN:VCALENDAR
VERSION:2.0
PRODID:-//Generations NC - ECPv6.14.2//NONSGML v1.0//EN
CALSCALE:GREGORIAN
METHOD:PUBLISH
X-ORIGINAL-URL:https://generations.nc
X-WR-CALDESC:Évènements pour Generations NC
REFRESH-INTERVAL;VALUE=DURATION:PT1H
X-Robots-Tag:noindex
X-PUBLISHED-TTL:PT1H
BEGIN:VTIMEZONE
TZID:Pacific/Noumea
BEGIN:STANDARD
TZOFFSETFROM:+1100
TZOFFSETTO:+1100
TZNAME:+11
DTSTART:20220101T000000
END:STANDARD
END:VTIMEZONE
BEGIN:VEVENT
DTSTART;TZID=Pacific/Noumea:20220520T180000
DTEND;TZID=Pacific/Noumea:20220520T200000
DTSTAMP:20260425T082530
CREATED:20220518T064931Z
LAST-MODIFIED:20220518T064947Z
UID:3475-1653069600-1653076800@generations.nc
SUMMARY:INVITATION : Monde Sportif
DESCRIPTION:Législatives 2022: Rdv le 20 mai à 18h à la salle de boxe de Rivière Salée
URL:https://generations.nc/evenement/invitation-monde-sportif/
ATTACH;FMTTYPE=image/png:https://generations.nc/wp-content/uploads/2022/05/2022.05.20-video-SPORT.png
END:VEVENT
END:VCALENDAR