BEGIN:VCALENDAR
VERSION:2.0
PRODID:-//Generations NC - ECPv6.14.2//NONSGML v1.0//EN
CALSCALE:GREGORIAN
METHOD:PUBLISH
X-ORIGINAL-URL:https://generations.nc
X-WR-CALDESC:Évènements pour Generations NC
REFRESH-INTERVAL;VALUE=DURATION:PT1H
X-Robots-Tag:noindex
X-PUBLISHED-TTL:PT1H
BEGIN:VTIMEZONE
TZID:Pacific/Noumea
BEGIN:STANDARD
TZOFFSETFROM:+1100
TZOFFSETTO:+1100
TZNAME:+11
DTSTART:20220101T000000
END:STANDARD
END:VTIMEZONE
BEGIN:VEVENT
DTSTART;TZID=Pacific/Noumea:20220507T170000
DTEND;TZID=Pacific/Noumea:20220507T190000
DTSTAMP:20260425T082528
CREATED:20220508T074558Z
LAST-MODIFIED:20220508T074558Z
UID:3322-1651942800-1651950000@generations.nc
SUMMARY:La Foa: Législatives 2022 Réunion Publique
DESCRIPTION:Ecrire l’avenir avec vous
URL:https://generations.nc/evenement/la-foa-legislatives-2022-reunion-publique/
ATTACH;FMTTYPE=image/jpeg:https://generations.nc/wp-content/uploads/2022/05/La-Foa....jpg
END:VEVENT
END:VCALENDAR