BEGIN:VCALENDAR
VERSION:2.0
PRODID:-//Generations NC - ECPv6.14.2//NONSGML v1.0//EN
CALSCALE:GREGORIAN
METHOD:PUBLISH
X-ORIGINAL-URL:https://generations.nc
X-WR-CALDESC:Évènements pour Generations NC
REFRESH-INTERVAL;VALUE=DURATION:PT1H
X-Robots-Tag:noindex
X-PUBLISHED-TTL:PT1H
BEGIN:VTIMEZONE
TZID:Pacific/Noumea
BEGIN:STANDARD
TZOFFSETFROM:+1100
TZOFFSETTO:+1100
TZNAME:+11
DTSTART:20220101T000000
END:STANDARD
END:VTIMEZONE
BEGIN:VEVENT
DTSTART;VALUE=DATE:20220424
DTEND;VALUE=DATE:20220425
DTSTAMP:20260425T125301
CREATED:20220204T093337Z
LAST-MODIFIED:20220204T093345Z
UID:3067-1650758400-1650844799@generations.nc
SUMMARY:Election Présidentielle
DESCRIPTION:24 avril 2022
URL:https://generations.nc/evenement/election-presidentielle-2/
ATTACH;FMTTYPE=image/png:https://generations.nc/wp-content/uploads/2022/02/Election-presidentielle-2022.png
END:VEVENT
END:VCALENDAR